BEGIN:VCALENDAR
VERSION:2.0
PRODID:-//Women&#039;s Council of Realtors Tucson - ECPv6.15.20//NONSGML v1.0//EN
CALSCALE:GREGORIAN
METHOD:PUBLISH
X-WR-CALNAME:Women&#039;s Council of Realtors Tucson
X-ORIGINAL-URL:https://www.tucsonwcr.com
X-WR-CALDESC:Events for Women&#039;s Council of Realtors Tucson
REFRESH-INTERVAL;VALUE=DURATION:PT1H
X-Robots-Tag:noindex
X-PUBLISHED-TTL:PT1H
BEGIN:VTIMEZONE
TZID:America/Phoenix
BEGIN:STANDARD
TZOFFSETFROM:-0700
TZOFFSETTO:-0700
TZNAME:MST
DTSTART:20240101T000000
END:STANDARD
END:VTIMEZONE
BEGIN:VEVENT
DTSTART;TZID=America/Phoenix:20251118T090000
DTEND;TZID=America/Phoenix:20251118T103000
DTSTAMP:20260425T051506
CREATED:20250909T175613Z
LAST-MODIFIED:20251015T192922Z
UID:5305-1763456400-1763461800@www.tucsonwcr.com
SUMMARY:Strategic Partners Panel Discussion
DESCRIPTION:Panel discussion.
URL:https://www.tucsonwcr.com/event/strategic-partners-panel-discussion/
LOCATION:Pioneer Title Agency Community Room\, 1660 E. River Road\, #180\, Tucson\, AZ\, 85718\, United States
CATEGORIES:Education Events,Membership Networking Events
ATTACH;FMTTYPE=image/png:https://www.tucsonwcr.com/wp-content/uploads//2025/09/Panel-of-Experts-1.png
ORGANIZER;CN="Brenda Bowers":MAILTO:rsvp@tucsonwcr.com
END:VEVENT
END:VCALENDAR