BEGIN:VCALENDAR
VERSION:2.0
PRODID:-//Women&#039;s Council of Realtors Tucson - ECPv6.15.20//NONSGML v1.0//EN
CALSCALE:GREGORIAN
METHOD:PUBLISH
X-ORIGINAL-URL:https://www.tucsonwcr.com
X-WR-CALDESC:Events for Women&#039;s Council of Realtors Tucson
REFRESH-INTERVAL;VALUE=DURATION:PT1H
X-Robots-Tag:noindex
X-PUBLISHED-TTL:PT1H
BEGIN:VTIMEZONE
TZID:America/Phoenix
BEGIN:STANDARD
TZOFFSETFROM:-0700
TZOFFSETTO:-0700
TZNAME:MST
DTSTART:20250101T000000
END:STANDARD
END:VTIMEZONE
BEGIN:VEVENT
DTSTART;TZID=America/Phoenix:20260917T170000
DTEND;TZID=America/Phoenix:20260917T200000
DTSTAMP:20260425T045516
CREATED:20251229T192042Z
LAST-MODIFIED:20260330T224212Z
UID:5350-1789664400-1789675200@www.tucsonwcr.com
SUMMARY:Dessert Auction
DESCRIPTION:Details TBA
URL:https://www.tucsonwcr.com/event/dessert-auction/
CATEGORIES:Special Events
END:VEVENT
BEGIN:VEVENT
DTSTART;TZID=America/Phoenix:20261201T170000
DTEND;TZID=America/Phoenix:20261201T200000
DTSTAMP:20260425T045516
CREATED:20251229T194326Z
LAST-MODIFIED:20251229T194652Z
UID:5352-1796144400-1796155200@www.tucsonwcr.com
SUMMARY:Installation
DESCRIPTION:Details TBA
URL:https://www.tucsonwcr.com/event/installation-2/
CATEGORIES:Special Events
END:VEVENT
END:VCALENDAR