BEGIN:VCALENDAR
VERSION:2.0
PRODID:-//Women&#039;s Council of Realtors Tucson - ECPv6.15.20//NONSGML v1.0//EN
CALSCALE:GREGORIAN
METHOD:PUBLISH
X-WR-CALNAME:Women&#039;s Council of Realtors Tucson
X-ORIGINAL-URL:https://www.tucsonwcr.com
X-WR-CALDESC:Events for Women&#039;s Council of Realtors Tucson
REFRESH-INTERVAL;VALUE=DURATION:PT1H
X-Robots-Tag:noindex
X-PUBLISHED-TTL:PT1H
BEGIN:VTIMEZONE
TZID:America/Phoenix
BEGIN:STANDARD
TZOFFSETFROM:-0700
TZOFFSETTO:-0700
TZNAME:MST
DTSTART:20250101T000000
END:STANDARD
END:VTIMEZONE
BEGIN:VEVENT
DTSTART;TZID=America/Phoenix:20260122T090000
DTEND;TZID=America/Phoenix:20260122T110000
DTSTAMP:20260425T082249
CREATED:20251212T174643Z
LAST-MODIFIED:20251212T174643Z
UID:5328-1769072400-1769079600@www.tucsonwcr.com
SUMMARY:Business Ready Seminar
DESCRIPTION:
URL:https://www.tucsonwcr.com/event/business-ready-seminar/
LOCATION:Fidelity National Title\, 800 E. Wetmore\, Suite 110\, Tucson\, AR\, 85719\, United States
CATEGORIES:Industry Events
ATTACH;FMTTYPE=image/png:https://www.tucsonwcr.com/wp-content/uploads//2025/12/Business-Ready-WCR-flyer.png
ORGANIZER;CN="Brenda Bowers":MAILTO:rsvp@tucsonwcr.com
END:VEVENT
BEGIN:VEVENT
DTSTART;TZID=America/Phoenix:20260212T083000
DTEND;TZID=America/Phoenix:20260212T110000
DTSTAMP:20260425T082249
CREATED:20251229T190916Z
LAST-MODIFIED:20260109T222549Z
UID:5336-1770885000-1770894000@www.tucsonwcr.com
SUMMARY:Industry & Legal Updates Every Realtor Needs To Know
DESCRIPTION:Direct insight from Arizona real estate leadership and legal experts. \n  \n \nText Updates2026 to 234-324-3332
URL:https://www.tucsonwcr.com/event/legal-updates-and-industry-changes/
LOCATION:Tucson Association of Realtors\, 2445 N. Tucson Blvd\, Tucson\, AZ\, 85716\, United States
CATEGORIES:Industry Events
ATTACH;FMTTYPE=image/png:https://www.tucsonwcr.com/wp-content/uploads//2025/12/WCR-Events-Updated.png
ORGANIZER;CN="Brenda Bowers":MAILTO:rsvp@tucsonwcr.com
END:VEVENT
BEGIN:VEVENT
DTSTART;TZID=America/Phoenix:20260316T090000
DTEND;TZID=America/Phoenix:20260316T110000
DTSTAMP:20260425T082249
CREATED:20251229T191112Z
LAST-MODIFIED:20260226T015720Z
UID:5338-1773651600-1773658800@www.tucsonwcr.com
SUMMARY:Where Deals Die...And How To Save Them
DESCRIPTION:
URL:https://www.tucsonwcr.com/event/lender-and-title-1st-quarter-updates/
LOCATION:Pioneer Title Agency Community Room\, 1660 E. River Road\, #180\, Tucson\, AZ\, 85718\, United States
CATEGORIES:Industry Events
ATTACH;FMTTYPE=image/png:https://www.tucsonwcr.com/wp-content/uploads//2025/12/WCR-Events-8.png
ORGANIZER;CN="Brenda Bowers":MAILTO:rsvp@tucsonwcr.com
END:VEVENT
BEGIN:VEVENT
DTSTART;TZID=America/Phoenix:20260430T160000
DTEND;TZID=America/Phoenix:20260430T180000
DTSTAMP:20260425T082249
CREATED:20251229T191525Z
LAST-MODIFIED:20260320T215800Z
UID:5340-1777564800-1777572000@www.tucsonwcr.com
SUMMARY:Run For The Roses Derby Mixer
DESCRIPTION:
URL:https://www.tucsonwcr.com/event/kentucky-derby-themed-mixer/
LOCATION:Proof Artisanal Pizza & Pasta\, 4340 N. Campbell Ave.\, Tucson\, AZ\, 85718\, United States
CATEGORIES:Membership Networking Events
ATTACH;FMTTYPE=image/png:https://www.tucsonwcr.com/wp-content/uploads//2025/12/flyer-with-QR-code-Proof-Happy-Hour-PNG-scaled.png
ORGANIZER;CN="Brenda Bowers":MAILTO:rsvp@tucsonwcr.com
END:VEVENT
BEGIN:VEVENT
DTSTART;TZID=America/Phoenix:20260611T140000
DTEND;TZID=America/Phoenix:20260611T170000
DTSTAMP:20260425T082249
CREATED:20251229T191650Z
LAST-MODIFIED:20260403T202029Z
UID:5344-1781186400-1781197200@www.tucsonwcr.com
SUMMARY:Fair Housing In Today's World - 3 Hours CE Credit
DESCRIPTION:Location: TAR\, 2445 N. Tucson Blvd.   \nRegistration – FREE for WCR Members\n$10 Non-WCR Members \nWCR Member RSVP – Email Brenda Bowers – brenda.bowers@ptaaz.com \n 
URL:https://www.tucsonwcr.com/event/ce-class/
LOCATION:Tucson Association of Realtors\, 2445 N. Tucson Blvd\, Tucson\, AZ\, 85716\, United States
CATEGORIES:Education Events
ATTACH;FMTTYPE=image/png:https://www.tucsonwcr.com/wp-content/uploads//2025/12/WCR-Events-11-1.png
ORGANIZER;CN="Brenda Bowers":MAILTO:rsvp@tucsonwcr.com
END:VEVENT
BEGIN:VEVENT
DTSTART;TZID=America/Phoenix:20260716T160000
DTEND;TZID=America/Phoenix:20260716T180000
DTSTAMP:20260425T082249
CREATED:20251229T191807Z
LAST-MODIFIED:20251229T191807Z
UID:5346-1784217600-1784224800@www.tucsonwcr.com
SUMMARY:Summer Mixer
DESCRIPTION:Details TBA
URL:https://www.tucsonwcr.com/event/summer-mixer/
CATEGORIES:Membership Networking Events
END:VEVENT
BEGIN:VEVENT
DTSTART;TZID=America/Phoenix:20260813T090000
DTEND;TZID=America/Phoenix:20260813T110000
DTSTAMP:20260425T082249
CREATED:20251229T191939Z
LAST-MODIFIED:20260421T025821Z
UID:5348-1786611600-1786618800@www.tucsonwcr.com
SUMMARY:2027 Board Elections & Tony Ray's AI Presentation
DESCRIPTION:Non-WCR Members – Text “AI&Elections” to 234-324-3332\, Scan QR Code Above or Click The Link Below.\nWCR Members – RSVP to Brenda.Bowers@ptaaz.com\n 
URL:https://www.tucsonwcr.com/event/elections-2/
LOCATION:Tucson Association of Realtors\, 2445 N. Tucson Blvd\, Tucson\, AZ\, 85716\, United States
CATEGORIES:Special Events
ATTACH;FMTTYPE=image/png:https://www.tucsonwcr.com/wp-content/uploads//2025/12/WCR-Events-15.png
ORGANIZER;CN="Brenda Bowers":MAILTO:rsvp@tucsonwcr.com
END:VEVENT
BEGIN:VEVENT
DTSTART;TZID=America/Phoenix:20260917T170000
DTEND;TZID=America/Phoenix:20260917T200000
DTSTAMP:20260425T082249
CREATED:20251229T192042Z
LAST-MODIFIED:20260330T224212Z
UID:5350-1789664400-1789675200@www.tucsonwcr.com
SUMMARY:Dessert Auction
DESCRIPTION:Details TBA
URL:https://www.tucsonwcr.com/event/dessert-auction/
CATEGORIES:Special Events
END:VEVENT
BEGIN:VEVENT
DTSTART;TZID=America/Phoenix:20261201T170000
DTEND;TZID=America/Phoenix:20261201T200000
DTSTAMP:20260425T082249
CREATED:20251229T194326Z
LAST-MODIFIED:20251229T194652Z
UID:5352-1796144400-1796155200@www.tucsonwcr.com
SUMMARY:Installation
DESCRIPTION:Details TBA
URL:https://www.tucsonwcr.com/event/installation-2/
CATEGORIES:Special Events
END:VEVENT
END:VCALENDAR