BEGIN:VCALENDAR
VERSION:2.0
PRODID:-//Women&#039;s Council of Realtors Tucson - ECPv6.15.20//NONSGML v1.0//EN
CALSCALE:GREGORIAN
METHOD:PUBLISH
X-ORIGINAL-URL:https://www.tucsonwcr.com
X-WR-CALDESC:Events for Women&#039;s Council of Realtors Tucson
REFRESH-INTERVAL;VALUE=DURATION:PT1H
X-Robots-Tag:noindex
X-PUBLISHED-TTL:PT1H
BEGIN:VTIMEZONE
TZID:America/Phoenix
BEGIN:STANDARD
TZOFFSETFROM:-0700
TZOFFSETTO:-0700
TZNAME:MST
DTSTART:20240101T000000
END:STANDARD
END:VTIMEZONE
BEGIN:VEVENT
DTSTART;TZID=America/Phoenix:20251203T170000
DTEND;TZID=America/Phoenix:20251203T200000
DTSTAMP:20260425T081232
CREATED:20250109T172728Z
LAST-MODIFIED:20251106T160645Z
UID:5250-1764781200-1764792000@www.tucsonwcr.com
SUMMARY:2026 Governing Board Installation
DESCRIPTION:  \n2026 Installation of New Officers
URL:https://www.tucsonwcr.com/event/installation/
LOCATION:Brother John’s Beer Bourbon & BBQ\, 1801 N Stone Ave\, Tucson\, United States
CATEGORIES:Special Events
ATTACH;FMTTYPE=image/jpeg:https://www.tucsonwcr.com/wp-content/uploads//2025/01/2025-Installation1.jpg
END:VEVENT
END:VCALENDAR