BEGIN:VCALENDAR
VERSION:2.0
PRODID:-//Women&#039;s Council of Realtors Tucson - ECPv6.15.20//NONSGML v1.0//EN
CALSCALE:GREGORIAN
METHOD:PUBLISH
X-ORIGINAL-URL:https://www.tucsonwcr.com
X-WR-CALDESC:Events for Women&#039;s Council of Realtors Tucson
REFRESH-INTERVAL;VALUE=DURATION:PT1H
X-Robots-Tag:noindex
X-PUBLISHED-TTL:PT1H
BEGIN:VTIMEZONE
TZID:America/Phoenix
BEGIN:STANDARD
TZOFFSETFROM:-0700
TZOFFSETTO:-0700
TZNAME:MST
DTSTART:20250101T000000
END:STANDARD
END:VTIMEZONE
BEGIN:VEVENT
DTSTART;TZID=America/Phoenix:20260611T140000
DTEND;TZID=America/Phoenix:20260611T170000
DTSTAMP:20260425T040722
CREATED:20251229T191650Z
LAST-MODIFIED:20260403T202029Z
UID:5344-1781186400-1781197200@www.tucsonwcr.com
SUMMARY:Fair Housing In Today's World - 3 Hours CE Credit
DESCRIPTION:Location: TAR\, 2445 N. Tucson Blvd.   \nRegistration – FREE for WCR Members\n$10 Non-WCR Members \nWCR Member RSVP – Email Brenda Bowers – brenda.bowers@ptaaz.com \n 
URL:https://www.tucsonwcr.com/event/ce-class/
LOCATION:Tucson Association of Realtors\, 2445 N. Tucson Blvd\, Tucson\, AZ\, 85716\, United States
CATEGORIES:Education Events
ATTACH;FMTTYPE=image/png:https://www.tucsonwcr.com/wp-content/uploads//2025/12/WCR-Events-11-1.png
ORGANIZER;CN="Brenda Bowers":MAILTO:rsvp@tucsonwcr.com
END:VEVENT
END:VCALENDAR